BEGIN:VCALENDAR
VERSION:2.0
PRODID:-//Masjid Akbar Moed&#039;Har Arifin - ECPv6.15.20//NONSGML v1.0//EN
CALSCALE:GREGORIAN
METHOD:PUBLISH
X-WR-CALNAME:Masjid Akbar Moed&#039;Har Arifin
X-ORIGINAL-URL:https://masjidmoedhararifin.com
X-WR-CALDESC:Events for Masjid Akbar Moed&#039;Har Arifin
REFRESH-INTERVAL;VALUE=DURATION:PT1H
X-Robots-Tag:noindex
X-PUBLISHED-TTL:PT1H
BEGIN:VTIMEZONE
TZID:Asia/Krasnoyarsk
BEGIN:STANDARD
TZOFFSETFROM:+0700
TZOFFSETTO:+0700
TZNAME:+07
DTSTART:20220101T000000
END:STANDARD
END:VTIMEZONE
BEGIN:VEVENT
DTSTART;TZID=Asia/Krasnoyarsk:20240113T070000
DTEND;TZID=Asia/Krasnoyarsk:20240113T230000
DTSTAMP:20260420T091433
CREATED:20231229T074459Z
LAST-MODIFIED:20231229T074500Z
UID:3480-1705129200-1705186800@masjidmoedhararifin.com
SUMMARY:Resepsi Pernikahan
DESCRIPTION:
URL:https://masjidmoedhararifin.com/event/resepsi-pernikahan/
LOCATION:Ballroom Masjid Akbar Moed’Har Arifin\, Jl. Raya Deandles No.KM 32\, Gedangan\, Wadeng\, Kec. Sidayu\, Kabupaten Gresik\, Jawa Timur\, Kabupaten Gresik\, Jawa Timur\, 61153\, Indonesia
ORGANIZER;CN="Takmir Masjid Akbar Moed'Har Arifin":MAILTO:masjidakbarmoedhararifin@gmail.com
END:VEVENT
BEGIN:VEVENT
DTSTART;TZID=Asia/Krasnoyarsk:20240112T110000
DTEND;TZID=Asia/Krasnoyarsk:20240112T123000
DTSTAMP:20260420T091433
CREATED:20231229T072825Z
LAST-MODIFIED:20231229T072826Z
UID:3472-1705057200-1705062600@masjidmoedhararifin.com
SUMMARY:Khutbah Jum'at
DESCRIPTION:Khotib: Ust. Drs. Abdul Hakam Mubarok\, Lc.\, M.Pd. ( Pengasuh Ponpes Karang Asem Paciran\, Lamongan)Tema:  Kearifan dalam Berdakwah (QS. An-Nahl;125)
URL:https://masjidmoedhararifin.com/event/khutbah-jumat-11/
LOCATION:Ruang Utama Masjid Akbar Moed’Har Arifin\, Jl. Deandels KM.31 Wadeng\, Kecamatan Sidayu\, Kabupaten Gresik\, Jawa Timur\, 61153\, Indonesia
ORGANIZER;CN="Takmir Masjid Akbar Moed'Har Arifin":MAILTO:masjidakbarmoedhararifin@gmail.com
END:VEVENT
BEGIN:VEVENT
DTSTART;TZID=Asia/Krasnoyarsk:20240112T070000
DTEND;TZID=Asia/Krasnoyarsk:20240112T230000
DTSTAMP:20260420T091433
CREATED:20231229T074411Z
LAST-MODIFIED:20231229T074411Z
UID:3478-1705042800-1705100400@masjidmoedhararifin.com
SUMMARY:Akad Nikah
DESCRIPTION:
URL:https://masjidmoedhararifin.com/event/akad-nikah-3/
LOCATION:Ruang Utama Masjid Akbar Moed’Har Arifin\, Jl. Deandels KM.31 Wadeng\, Kecamatan Sidayu\, Kabupaten Gresik\, Jawa Timur\, 61153\, Indonesia
ORGANIZER;CN="Takmir Masjid Akbar Moed'Har Arifin":MAILTO:masjidakbarmoedhararifin@gmail.com
END:VEVENT
BEGIN:VEVENT
DTSTART;TZID=Asia/Krasnoyarsk:20240110T175000
DTEND;TZID=Asia/Krasnoyarsk:20240110T185000
DTSTAMP:20260420T091433
CREATED:20240104T092706Z
LAST-MODIFIED:20240104T092707Z
UID:3493-1704909000-1704912600@masjidmoedhararifin.com
SUMMARY:Kajian Kitab Al Hikam
DESCRIPTION:Pemateri:Drs. KH. Chusnan Ali (Wakil Katib Syuri’ah PWNU Jawa Timur)
URL:https://masjidmoedhararifin.com/event/kajian-kitab-al-hikam-5/
LOCATION:Ruang Utama Masjid Akbar Moed’Har Arifin\, Jl. Deandels KM.31 Wadeng\, Kecamatan Sidayu\, Kabupaten Gresik\, Jawa Timur\, 61153\, Indonesia
ORGANIZER;CN="Takmir Masjid Akbar Moed'Har Arifin":MAILTO:masjidakbarmoedhararifin@gmail.com
END:VEVENT
BEGIN:VEVENT
DTSTART;TZID=Asia/Krasnoyarsk:20240105T110000
DTEND;TZID=Asia/Krasnoyarsk:20240105T123000
DTSTAMP:20260420T091433
CREATED:20231229T072553Z
LAST-MODIFIED:20231229T072554Z
UID:3470-1704452400-1704457800@masjidmoedhararifin.com
SUMMARY:Khutbah Jum'at
DESCRIPTION:Khotib: Prof. Dr. Moh. Ali Aziz\, M.Ag. (Dewan Syariah Masjid Akbar Moed’Har Arifin\,Trainer Terapi Shalat bahagia)Tema: Hidupkan Hidupmu\, Jangan Mati Sebelum Kematianmu (QS. Al-Anfal;24)
URL:https://masjidmoedhararifin.com/event/khutbah-jumat-10/
LOCATION:Ruang Utama Masjid Akbar Moed’Har Arifin\, Jl. Deandels KM.31 Wadeng\, Kecamatan Sidayu\, Kabupaten Gresik\, Jawa Timur\, 61153\, Indonesia
ORGANIZER;CN="Takmir Masjid Akbar Moed'Har Arifin":MAILTO:masjidakbarmoedhararifin@gmail.com
END:VEVENT
BEGIN:VEVENT
DTSTART;TZID=Asia/Krasnoyarsk:20240103T175000
DTEND;TZID=Asia/Krasnoyarsk:20240103T185000
DTSTAMP:20260420T091433
CREATED:20240104T092504Z
LAST-MODIFIED:20240104T092505Z
UID:3491-1704304200-1704307800@masjidmoedhararifin.com
SUMMARY:Kajian Kitab Tafsir Ayat Ahkam
DESCRIPTION:Pemateri:Ustadz Dr. H. Anas Alhiifni\, SEI.\, M.Si.\, Al-Hafidz (Pondok Pesantren SUnan Drajat\, Lamongan)
URL:https://masjidmoedhararifin.com/event/kajian-kitab-tafsir-ayat-ahkam-4/
LOCATION:Ruang Utama Masjid Akbar Moed’Har Arifin\, Jl. Deandels KM.31 Wadeng\, Kecamatan Sidayu\, Kabupaten Gresik\, Jawa Timur\, 61153\, Indonesia
ORGANIZER;CN="Takmir Masjid Akbar Moed'Har Arifin":MAILTO:masjidakbarmoedhararifin@gmail.com
END:VEVENT
BEGIN:VEVENT
DTSTART;TZID=Asia/Krasnoyarsk:20231229T113000
DTEND;TZID=Asia/Krasnoyarsk:20231229T123000
DTSTAMP:20260420T091433
CREATED:20231206T042622Z
LAST-MODIFIED:20231206T042623Z
UID:3396-1703849400-1703853000@masjidmoedhararifin.com
SUMMARY:Khutbah Jum'at
DESCRIPTION:Khotib: KH. Ma’ruf Khozin (Ketua Komisi Fatwa MUI Jawa Timur & Ketua Aswaja Center PWNU Jawa Timur)
URL:https://masjidmoedhararifin.com/event/khutbah-jumat-9/
LOCATION:Ruang Utama Masjid Akbar Moed’Har Arifin\, Jl. Deandels KM.31 Wadeng\, Kecamatan Sidayu\, Kabupaten Gresik\, Jawa Timur\, 61153\, Indonesia
ORGANIZER;CN="Takmir Masjid Akbar Moed'Har Arifin":MAILTO:masjidakbarmoedhararifin@gmail.com
END:VEVENT
BEGIN:VEVENT
DTSTART;TZID=Asia/Krasnoyarsk:20231227T180000
DTEND;TZID=Asia/Krasnoyarsk:20231227T183000
DTSTAMP:20260420T091433
CREATED:20231206T043759Z
LAST-MODIFIED:20231206T043800Z
UID:3404-1703700000-1703701800@masjidmoedhararifin.com
SUMMARY:Kajian Kitab Al Hikam
DESCRIPTION:Pemateri: Drs. KH. Chusnan Ali (Wakil Katib Syuri’ah PWNU\, Jawa Timur)
URL:https://masjidmoedhararifin.com/event/kajian-kitab-al-hikam-4/
LOCATION:Ruang Utama Masjid Akbar Moed’Har Arifin\, Jl. Deandels KM.31 Wadeng\, Kecamatan Sidayu\, Kabupaten Gresik\, Jawa Timur\, 61153\, Indonesia
ORGANIZER;CN="Takmir Masjid Akbar Moed'Har Arifin":MAILTO:masjidakbarmoedhararifin@gmail.com
END:VEVENT
BEGIN:VEVENT
DTSTART;TZID=Asia/Krasnoyarsk:20231223T070000
DTEND;TZID=Asia/Krasnoyarsk:20231223T110000
DTSTAMP:20260420T091433
CREATED:20231206T061428Z
LAST-MODIFIED:20231206T061429Z
UID:3414-1703314800-1703329200@masjidmoedhararifin.com
SUMMARY:Akad Nikah
DESCRIPTION:Akad Nikah di Ruang Utama Masjid Akbar Moed’Har Arifin
URL:https://masjidmoedhararifin.com/event/akad-nikah-2/
LOCATION:Ruang Utama Masjid Akbar Moed’Har Arifin\, Jl. Deandels KM.31 Wadeng\, Kecamatan Sidayu\, Kabupaten Gresik\, Jawa Timur\, 61153\, Indonesia
ORGANIZER;CN="Takmir Masjid Akbar Moed'Har Arifin":MAILTO:masjidakbarmoedhararifin@gmail.com
END:VEVENT
BEGIN:VEVENT
DTSTART;TZID=Asia/Krasnoyarsk:20231222T110000
DTEND;TZID=Asia/Krasnoyarsk:20231222T123000
DTSTAMP:20260420T091433
CREATED:20231206T040013Z
LAST-MODIFIED:20231206T050555Z
UID:3394-1703242800-1703248200@masjidmoedhararifin.com
SUMMARY:Khutbah Jum'at
DESCRIPTION:Khotib: KH. Abdul Muhsi (Pemangku Ponpes Al Karimi Tebuwung\, Dukun)
URL:https://masjidmoedhararifin.com/event/khutbah-jumat-8/
LOCATION:Ruang Utama Masjid Akbar Moed’Har Arifin\, Jl. Deandels KM.31 Wadeng\, Kecamatan Sidayu\, Kabupaten Gresik\, Jawa Timur\, 61153\, Indonesia
ORGANIZER;CN="Takmir Masjid Akbar Moed'Har Arifin":MAILTO:masjidakbarmoedhararifin@gmail.com
END:VEVENT
BEGIN:VEVENT
DTSTART;TZID=Asia/Krasnoyarsk:20231219T180000
DTEND;TZID=Asia/Krasnoyarsk:20231219T190000
DTSTAMP:20260420T091433
CREATED:20231207T025142Z
LAST-MODIFIED:20231207T025143Z
UID:3427-1703008800-1703012400@masjidmoedhararifin.com
SUMMARY:Kajian Akbar
DESCRIPTION:Pemateri: Dr. KH. M. Sholihin Fanani\, M.PSDM. (Wakil Ketua Pimpinan Wilayah Muhammadiyah (PWM)\,Jawa Timur.) \n\n\n\nTerbuka untuk UMUM dan GRATIS
URL:https://masjidmoedhararifin.com/event/kajian-akbar-2/
LOCATION:Ruang Utama Masjid Akbar Moed’Har Arifin\, Jl. Deandels KM.31 Wadeng\, Kecamatan Sidayu\, Kabupaten Gresik\, Jawa Timur\, 61153\, Indonesia
ORGANIZER;CN="Takmir Masjid Akbar Moed'Har Arifin":MAILTO:masjidakbarmoedhararifin@gmail.com
END:VEVENT
BEGIN:VEVENT
DTSTART;TZID=Asia/Krasnoyarsk:20231215T150000
DTEND;TZID=Asia/Krasnoyarsk:20231215T160000
DTSTAMP:20260420T091433
CREATED:20231206T060800Z
LAST-MODIFIED:20231206T061719Z
UID:3407-1702652400-1702656000@masjidmoedhararifin.com
SUMMARY:Santunan Anak Yatim
DESCRIPTION:Santunan Anak Yatim dari Yayasan Harfin Gosari
URL:https://masjidmoedhararifin.com/event/santunan-anak-yatim/
LOCATION:Ballroom Masjid Akbar Moed’Har Arifin\, Jl. Raya Deandles No.KM 32\, Gedangan\, Wadeng\, Kec. Sidayu\, Kabupaten Gresik\, Jawa Timur\, Kabupaten Gresik\, Jawa Timur\, 61153\, Indonesia
END:VEVENT
BEGIN:VEVENT
DTSTART;TZID=Asia/Krasnoyarsk:20231215T113000
DTEND;TZID=Asia/Krasnoyarsk:20231215T123000
DTSTAMP:20260420T091433
CREATED:20231206T042235Z
LAST-MODIFIED:20231206T050607Z
UID:3392-1702639800-1702643400@masjidmoedhararifin.com
SUMMARY:Khutbah Jum'at
DESCRIPTION:Khotib: Drs. KH. Hasanuddin Sinaga\, MA. (Imam & Khotib Masjid Istiqlal Jakarta)
URL:https://masjidmoedhararifin.com/event/khutbah-jumat-7/
LOCATION:Ruang Utama Masjid Akbar Moed’Har Arifin\, Jl. Deandels KM.31 Wadeng\, Kecamatan Sidayu\, Kabupaten Gresik\, Jawa Timur\, 61153\, Indonesia
ORGANIZER;CN="Takmir Masjid Akbar Moed'Har Arifin":MAILTO:masjidakbarmoedhararifin@gmail.com
END:VEVENT
BEGIN:VEVENT
DTSTART;TZID=Asia/Krasnoyarsk:20231213T180000
DTEND;TZID=Asia/Krasnoyarsk:20231213T183000
DTSTAMP:20260420T091433
CREATED:20231206T043357Z
LAST-MODIFIED:20231206T043358Z
UID:3400-1702490400-1702492200@masjidmoedhararifin.com
SUMMARY:Kajian Kitab Al Hikam
DESCRIPTION:Pemateri: Dr. KH. Darmawan\, S.HI.\, M.HI. (Pengasuh Ponpes Bustanul Hikmah\, Lamongan)
URL:https://masjidmoedhararifin.com/event/kajian-kitab-al-hikam-3/
LOCATION:Ruang Utama Masjid Akbar Moed’Har Arifin\, Jl. Deandels KM.31 Wadeng\, Kecamatan Sidayu\, Kabupaten Gresik\, Jawa Timur\, 61153\, Indonesia
ORGANIZER;CN="Takmir Masjid Akbar Moed'Har Arifin":MAILTO:masjidakbarmoedhararifin@gmail.com
END:VEVENT
BEGIN:VEVENT
DTSTART;TZID=Asia/Krasnoyarsk:20231208T113000
DTEND;TZID=Asia/Krasnoyarsk:20231208T123000
DTSTAMP:20260420T091433
CREATED:20231206T041947Z
LAST-MODIFIED:20231206T041948Z
UID:3390-1702035000-1702038600@masjidmoedhararifin.com
SUMMARY:Khutbah Jum'at
DESCRIPTION:Khotib: Ust. H. Rofi’ Munawwar\, Lc. (Pengurus Majelis Kyai\, Pondok Pesantren Darul Fikri\, Sidoarjo)
URL:https://masjidmoedhararifin.com/event/khutbah-jumat-6/
LOCATION:Ruang Utama Masjid Akbar Moed’Har Arifin\, Jl. Deandels KM.31 Wadeng\, Kecamatan Sidayu\, Kabupaten Gresik\, Jawa Timur\, 61153\, Indonesia
ORGANIZER;CN="Takmir Masjid Akbar Moed'Har Arifin":MAILTO:masjidakbarmoedhararifin@gmail.com
END:VEVENT
BEGIN:VEVENT
DTSTART;TZID=Asia/Krasnoyarsk:20231206T180000
DTEND;TZID=Asia/Krasnoyarsk:20231206T183000
DTSTAMP:20260420T091433
CREATED:20231206T043140Z
LAST-MODIFIED:20231206T043141Z
UID:3398-1701885600-1701887400@masjidmoedhararifin.com
SUMMARY:Kajian Kitab Tafsir Ayat Ahkam
DESCRIPTION:Pemateri: Ust. Dr. H. Anas Alhifni\, SEI.\, M.Si.\, Al-Hafidz (Pondok Pesantren Sunan Drajat\, Lamongan)
URL:https://masjidmoedhararifin.com/event/kajian-kitab-tafsir-ayat-ahkam-3/
LOCATION:Ruang Utama Masjid Akbar Moed’Har Arifin\, Jl. Deandels KM.31 Wadeng\, Kecamatan Sidayu\, Kabupaten Gresik\, Jawa Timur\, 61153\, Indonesia
ORGANIZER;CN="Takmir Masjid Akbar Moed'Har Arifin":MAILTO:masjidakbarmoedhararifin@gmail.com
END:VEVENT
BEGIN:VEVENT
DTSTART;TZID=Asia/Krasnoyarsk:20231201T113000
DTEND;TZID=Asia/Krasnoyarsk:20231201T123000
DTSTAMP:20260420T091433
CREATED:20231206T040723Z
LAST-MODIFIED:20231206T050518Z
UID:3388-1701430200-1701433800@masjidmoedhararifin.com
SUMMARY:Khutbah Jum'at
DESCRIPTION:
URL:https://masjidmoedhararifin.com/event/khutbah-jumat-5/
LOCATION:Ruang Utama Masjid Akbar Moed’Har Arifin\, Jl. Deandels KM.31 Wadeng\, Kecamatan Sidayu\, Kabupaten Gresik\, Jawa Timur\, 61153\, Indonesia
ORGANIZER;CN="Takmir Masjid Akbar Moed'Har Arifin":MAILTO:masjidakbarmoedhararifin@gmail.com
END:VEVENT
BEGIN:VEVENT
DTSTART;TZID=Asia/Krasnoyarsk:20231129T173000
DTEND;TZID=Asia/Krasnoyarsk:20231129T183000
DTSTAMP:20260420T091433
CREATED:20231101T063359Z
LAST-MODIFIED:20231101T071327Z
UID:3009-1701279000-1701282600@masjidmoedhararifin.com
SUMMARY:Kajian Kitab Al-Hikam
DESCRIPTION:bersama Drs. KH. Chusnan Ali – Wakil Katib Syuri’ah PWNU\, Jawa Timur
URL:https://masjidmoedhararifin.com/event/kajian-kitab-al-hikam-2/
LOCATION:Ruang Utama Masjid Akbar Moed’Har Arifin\, Jl. Deandels KM.31 Wadeng\, Kecamatan Sidayu\, Kabupaten Gresik\, Jawa Timur\, 61153\, Indonesia
ORGANIZER;CN="Takmir Masjid Akbar Moed'Har Arifin":MAILTO:masjidakbarmoedhararifin@gmail.com
END:VEVENT
BEGIN:VEVENT
DTSTART;TZID=Asia/Krasnoyarsk:20231124T110000
DTEND;TZID=Asia/Krasnoyarsk:20231124T120000
DTSTAMP:20260420T091433
CREATED:20231101T070818Z
LAST-MODIFIED:20231101T070819Z
UID:3028-1700823600-1700827200@masjidmoedhararifin.com
SUMMARY:Khutbah Jum'at
DESCRIPTION:bersama Ust. H. Nidlol Masyhudi\, Lc.\, Dpl. – Pengasuh Pondok Pesantren Maskumambang\, Dukun\, Gresik
URL:https://masjidmoedhararifin.com/event/khutbah-jumat-4/
LOCATION:Ruang Utama Masjid Akbar Moed’Har Arifin\, Jl. Deandels KM.31 Wadeng\, Kecamatan Sidayu\, Kabupaten Gresik\, Jawa Timur\, 61153\, Indonesia
ORGANIZER;CN="Takmir Masjid Akbar Moed'Har Arifin":MAILTO:masjidakbarmoedhararifin@gmail.com
END:VEVENT
BEGIN:VEVENT
DTSTART;TZID=Asia/Krasnoyarsk:20231124T080000
DTEND;TZID=Asia/Krasnoyarsk:20231124T100000
DTSTAMP:20260420T091433
CREATED:20231101T090254Z
LAST-MODIFIED:20231108T085149Z
UID:3065-1700812800-1700820000@masjidmoedhararifin.com
SUMMARY:Donor Darah
DESCRIPTION:untuk Umum
URL:https://masjidmoedhararifin.com/event/donor-darah/
LOCATION:Ballroom Masjid Akbar Moed’Har Arifin\, Jl. Raya Deandles No.KM 32\, Gedangan\, Wadeng\, Kec. Sidayu\, Kabupaten Gresik\, Jawa Timur\, Kabupaten Gresik\, Jawa Timur\, 61153\, Indonesia
END:VEVENT
BEGIN:VEVENT
DTSTART;TZID=Asia/Krasnoyarsk:20231120T053000
DTEND;TZID=Asia/Krasnoyarsk:20231120T190000
DTSTAMP:20260420T091433
CREATED:20231101T063547Z
LAST-MODIFIED:20231101T071647Z
UID:3011-1700458200-1700506800@masjidmoedhararifin.com
SUMMARY:Kajian Akbar
DESCRIPTION:bersama Dr. KH. Marzuki Mustamar\, M.Ag. – Ketua Umum PWNU Jawa Timur
URL:https://masjidmoedhararifin.com/event/kajian-akbar/
LOCATION:Ruang Utama Masjid Akbar Moed’Har Arifin\, Jl. Deandels KM.31 Wadeng\, Kecamatan Sidayu\, Kabupaten Gresik\, Jawa Timur\, 61153\, Indonesia
ORGANIZER;CN="Takmir Masjid Akbar Moed'Har Arifin":MAILTO:masjidakbarmoedhararifin@gmail.com
END:VEVENT
BEGIN:VEVENT
DTSTART;TZID=Asia/Krasnoyarsk:20231118T040000
DTEND;TZID=Asia/Krasnoyarsk:20231118T060000
DTSTAMP:20260420T091433
CREATED:20231101T085738Z
LAST-MODIFIED:20231206T050625Z
UID:3063-1700280000-1700287200@masjidmoedhararifin.com
SUMMARY:Study Banding
DESCRIPTION:Takmir MASJID DJAUHAROTUL IMAMAH\, PATI\, JAWA TENGAH
URL:https://masjidmoedhararifin.com/event/study-banding/
LOCATION:Ruang Utama Masjid Akbar Moed’Har Arifin\, Jl. Deandels KM.31 Wadeng\, Kecamatan Sidayu\, Kabupaten Gresik\, Jawa Timur\, 61153\, Indonesia
ORGANIZER;CN="Takmir Masjid Akbar Moed'Har Arifin":MAILTO:masjidakbarmoedhararifin@gmail.com
END:VEVENT
BEGIN:VEVENT
DTSTART;TZID=Asia/Krasnoyarsk:20231117T110000
DTEND;TZID=Asia/Krasnoyarsk:20231117T120000
DTSTAMP:20260420T091433
CREATED:20231101T070655Z
LAST-MODIFIED:20231101T070655Z
UID:3026-1700218800-1700222400@masjidmoedhararifin.com
SUMMARY:Khutbah Jum'at
DESCRIPTION:bersama Dr. KH. M. Lathoif Ghozali\, Lc.\, MA. – Konsultan Haji Indonesia & PPS UINSA
URL:https://masjidmoedhararifin.com/event/khutbah-jumat-3/
LOCATION:Ruang Utama Masjid Akbar Moed’Har Arifin\, Jl. Deandels KM.31 Wadeng\, Kecamatan Sidayu\, Kabupaten Gresik\, Jawa Timur\, 61153\, Indonesia
ORGANIZER;CN="Takmir Masjid Akbar Moed'Har Arifin":MAILTO:masjidakbarmoedhararifin@gmail.com
END:VEVENT
BEGIN:VEVENT
DTSTART;TZID=Asia/Krasnoyarsk:20231116T173000
DTEND;TZID=Asia/Krasnoyarsk:20231116T183000
DTSTAMP:20260420T091433
CREATED:20231101T063241Z
LAST-MODIFIED:20231101T071251Z
UID:3005-1700155800-1700159400@masjidmoedhararifin.com
SUMMARY:Kajian Kitab Tafsir Ayat Ahkam
DESCRIPTION:bersama Ust. Ahmad Sabiq\, LC. – Ketua Yayasan Ponpes Al-Furqon Al-Islami\, Sidayu Gresik
URL:https://masjidmoedhararifin.com/event/kajian-kitab-tafsir-ayat-ahkam-2/
LOCATION:Ruang Utama Masjid Akbar Moed’Har Arifin\, Jl. Deandels KM.31 Wadeng\, Kecamatan Sidayu\, Kabupaten Gresik\, Jawa Timur\, 61153\, Indonesia
ORGANIZER;CN="Takmir Masjid Akbar Moed'Har Arifin":MAILTO:masjidakbarmoedhararifin@gmail.com
END:VEVENT
BEGIN:VEVENT
DTSTART;TZID=Asia/Krasnoyarsk:20231111T130000
DTEND;TZID=Asia/Krasnoyarsk:20231111T140000
DTSTAMP:20260420T091433
CREATED:20231101T085548Z
LAST-MODIFIED:20231206T050618Z
UID:3061-1699707600-1699711200@masjidmoedhararifin.com
SUMMARY:Akad Nikah
DESCRIPTION:
URL:https://masjidmoedhararifin.com/event/akad-nikah/
LOCATION:Ruang Utama Masjid Akbar Moed’Har Arifin\, Jl. Deandels KM.31 Wadeng\, Kecamatan Sidayu\, Kabupaten Gresik\, Jawa Timur\, 61153\, Indonesia
ORGANIZER;CN="Takmir Masjid Akbar Moed'Har Arifin":MAILTO:masjidakbarmoedhararifin@gmail.com
END:VEVENT
BEGIN:VEVENT
DTSTART;TZID=Asia/Krasnoyarsk:20231110T110000
DTEND;TZID=Asia/Krasnoyarsk:20231110T120000
DTSTAMP:20260420T091433
CREATED:20231101T070504Z
LAST-MODIFIED:20231101T070858Z
UID:3024-1699614000-1699617600@masjidmoedhararifin.com
SUMMARY:Khutbah Jum'at
DESCRIPTION:bersama Prof. Dr. H. Ali Maschan Moesa\, M.Si. – Ketua majelis Ulama Indonesia Jawa Timur
URL:https://masjidmoedhararifin.com/event/3024/
LOCATION:Ruang Utama Masjid Akbar Moed’Har Arifin\, Jl. Deandels KM.31 Wadeng\, Kecamatan Sidayu\, Kabupaten Gresik\, Jawa Timur\, 61153\, Indonesia
ORGANIZER;CN="Takmir Masjid Akbar Moed'Har Arifin":MAILTO:masjidakbarmoedhararifin@gmail.com
END:VEVENT
BEGIN:VEVENT
DTSTART;TZID=Asia/Krasnoyarsk:20231108T173000
DTEND;TZID=Asia/Krasnoyarsk:20231108T183000
DTSTAMP:20260420T091433
CREATED:20231101T062711Z
LAST-MODIFIED:20231101T071213Z
UID:3003-1699464600-1699468200@masjidmoedhararifin.com
SUMMARY:Kajian Kitab Tafsir Ayat Ahkam
DESCRIPTION:bersama Ust. Dr. H. Anas Alhifni\, SEI.\, M.Si.\, Al Hafidz – Pondok Pesantren Sunan Drajat\, Lamongan
URL:https://masjidmoedhararifin.com/event/kajian-kitab-tafsir-ayat-ahkam/
LOCATION:Ruang Utama Masjid Akbar Moed’Har Arifin\, Jl. Deandels KM.31 Wadeng\, Kecamatan Sidayu\, Kabupaten Gresik\, Jawa Timur\, 61153\, Indonesia
ORGANIZER;CN="Takmir Masjid Akbar Moed'Har Arifin":MAILTO:masjidakbarmoedhararifin@gmail.com
END:VEVENT
BEGIN:VEVENT
DTSTART;TZID=Asia/Krasnoyarsk:20231103T110000
DTEND;TZID=Asia/Krasnoyarsk:20231103T120000
DTSTAMP:20260420T091433
CREATED:20231101T070246Z
LAST-MODIFIED:20231101T070958Z
UID:3022-1699009200-1699012800@masjidmoedhararifin.com
SUMMARY:Khutbah Jum'at
DESCRIPTION:bersama Ust. Zainal Abidin\, S.Ag.\, M.Fil.I – Ketua PD. Dewan Masjid Indonesia\, Kabupaten Gresik
URL:https://masjidmoedhararifin.com/event/khutbah-jumat-2/
LOCATION:Ruang Utama Masjid Akbar Moed’Har Arifin\, Jl. Deandels KM.31 Wadeng\, Kecamatan Sidayu\, Kabupaten Gresik\, Jawa Timur\, 61153\, Indonesia
ORGANIZER;CN="Takmir Masjid Akbar Moed'Har Arifin":MAILTO:masjidakbarmoedhararifin@gmail.com
END:VEVENT
BEGIN:VEVENT
DTSTART;TZID=Asia/Krasnoyarsk:20231101T173000
DTEND;TZID=Asia/Krasnoyarsk:20231101T183000
DTSTAMP:20260420T091433
CREATED:20231101T062327Z
LAST-MODIFIED:20231101T071044Z
UID:3001-1698859800-1698863400@masjidmoedhararifin.com
SUMMARY:Kajian Kitab Al-Hikam
DESCRIPTION:bersama Dr. KH Darmawan\, S.HI.\, M.HI. – Pengasuh Ponpes Bustanul Hikmah\, Lamongan
URL:https://masjidmoedhararifin.com/event/kajian-kitab-al-hikam/
LOCATION:Ruang Utama Masjid Akbar Moed’Har Arifin\, Jl. Deandels KM.31 Wadeng\, Kecamatan Sidayu\, Kabupaten Gresik\, Jawa Timur\, 61153\, Indonesia
ORGANIZER;CN="Takmir Masjid Akbar Moed'Har Arifin":MAILTO:masjidakbarmoedhararifin@gmail.com
END:VEVENT
BEGIN:VEVENT
DTSTART;TZID=Asia/Krasnoyarsk:20231027T190000
DTEND;TZID=Asia/Krasnoyarsk:20231027T220000
DTSTAMP:20260420T091433
CREATED:20231026T060159Z
LAST-MODIFIED:20231026T083643Z
UID:2932-1698433200-1698444000@masjidmoedhararifin.com
SUMMARY:Sholawat bersama Al Habib Hilmy Ja'far
DESCRIPTION:
URL:https://masjidmoedhararifin.com/event/sholawatan/
LOCATION:Jawa Timur
END:VEVENT
END:VCALENDAR